BEGIN:VCALENDAR
VERSION:2.0
PRODID:-//wp-events-plugin.com//7.0.4//EN
TZID:Europe/Paris
X-WR-TIMEZONE:Europe/Paris
BEGIN:VEVENT
UID:1@espaceetudiant.escen.university
DTSTART;TZID=Europe/Paris:20240924T090000
DTEND;TZID=Europe/Paris:20240924T123000
DTSTAMP:20240920T202000Z
URL:https://espaceetudiant.escen.university/events/seance-dinformation-a-c
 otonou/
SUMMARY:Séance d'information à Cotonou
DESCRIPTION:
ATTACH;FMTTYPE=image/jpeg:https://espaceetudiant.escen.university/wp-conte
 nt/uploads/2024/09/Seance-dinfo.jpg
END:VEVENT
BEGIN:VTIMEZONE
TZID:Europe/Paris
X-LIC-LOCATION:Europe/Paris
BEGIN:DAYLIGHT
DTSTART:20240331T030000
TZOFFSETFROM:+0100
TZOFFSETTO:+0200
TZNAME:CEST
END:DAYLIGHT
END:VTIMEZONE
END:VCALENDAR